BEGIN:VCALENDAR
VERSION:2.0
PRODID:-//Dogface Improv//Events//EN
CALSCALE:GREGORIAN
METHOD:PUBLISH
X-WR-CALNAME:Teams Night
BEGIN:VEVENT
UID:653-0@dogfaceimprov.com
DTSTAMP:20260423T174345Z
DTSTART:20260626T200000
DTEND:20260626T213000
SUMMARY:Teams Night
LOCATION:Alec Bussey Scout Centre\, Rowington Rd\, Norwich
DESCRIPTION:A night of performances from local improv teams. Our aim is to create regular long form improv stage time for teams of all experience levels. If you're interested in performing\, please email info@dogfaceimprov.com.\\n\\nPlease note - this event takes place at an alcohol-free venue.\\n\\nAge verification: 16+\, anyone under the age of 18 must be accompanied by a parent or guardian. You may be asked for ID upon entry. The nature of improv means that shows can contain adult themes and language.
URL:https://dogfaceimprov.com/event/653/teams-night-jun-26-2026
END:VEVENT
END:VCALENDAR
